BEGIN:VCALENDAR
VERSION:2.0
PRODID:-//ALS-mobil e.V. - ECPv6.15.20//NONSGML v1.0//EN
CALSCALE:GREGORIAN
METHOD:PUBLISH
X-ORIGINAL-URL:https://www.als-mobil.de
X-WR-CALDESC:Veranstaltungen für ALS-mobil e.V.
REFRESH-INTERVAL;VALUE=DURATION:PT1H
X-Robots-Tag:noindex
X-PUBLISHED-TTL:PT1H
BEGIN:VTIMEZONE
TZID:Europe/Berlin
BEGIN:DAYLIGHT
TZOFFSETFROM:+0100
TZOFFSETTO:+0200
TZNAME:CEST
DTSTART:20240331T010000
END:DAYLIGHT
BEGIN:STANDARD
TZOFFSETFROM:+0200
TZOFFSETTO:+0100
TZNAME:CET
DTSTART:20241027T010000
END:STANDARD
BEGIN:DAYLIGHT
TZOFFSETFROM:+0100
TZOFFSETTO:+0200
TZNAME:CEST
DTSTART:20250330T010000
END:DAYLIGHT
BEGIN:STANDARD
TZOFFSETFROM:+0200
TZOFFSETTO:+0100
TZNAME:CET
DTSTART:20251026T010000
END:STANDARD
BEGIN:DAYLIGHT
TZOFFSETFROM:+0100
TZOFFSETTO:+0200
TZNAME:CEST
DTSTART:20260329T010000
END:DAYLIGHT
BEGIN:STANDARD
TZOFFSETFROM:+0200
TZOFFSETTO:+0100
TZNAME:CET
DTSTART:20261025T010000
END:STANDARD
END:VTIMEZONE
BEGIN:VEVENT
DTSTART;TZID=Europe/Berlin:20250515T143000
DTEND;TZID=Europe/Berlin:20250515T170000
DTSTAMP:20260421T104443
CREATED:20250123T233655Z
LAST-MODIFIED:20250124T204531Z
UID:9147-1747319400-1747328400@www.als-mobil.de
SUMMARY:ALS Stammtisch in Berlin -  15. Mai ´25
DESCRIPTION:Lasst uns die Tradition wiederbeleben.\nDer Stammtisch findet an \njedem 3. Donnerstag\, in jedem 2.Monat  (Mai\, Juli\, Sep.\, Nov.)\, somit diesmal am \n  \n15. Mai ´25\nstatt – immer in den Räumen der: \n Berliner Stadtmission in der Lehrter Str  69.\n  \nDa bei unseren Ausflügen und Veranstaltungen leider nicht immer wirklich Zeit und Raum ist um ins Gespräch zu kommen\, hatten wir uns überlegt einen „Stammtisch“ zu organisieren. \n  \nWir suchten: \nEin regelmäßig wiederkehrender Termin an einem zentral gelegenen\, gut erreichbarem\, rolligerechten Ort. \nDort soll sich Zeit finden zum Treffen\, Quatschen\, kennenlernen und wiedersehen. \nund: \nDiesen Ort haben wir  gefunden. Und einen Termin auch gleich dazu. ;)  An jedem 3. Donnerstag in jedem zweiten Monat können wir uns wieder  in den Räumen der Berliner Stadtmission\, direkt am Berliner Hauptbahnhof\, treffen. \n  \nFür uns hilfreich (aber kein muss) wäre eine Anmeldung an:  stammtisch-berlin@als-mobil.de \noder WhattsApp & Co an 0176 658 56 357  ;-) \n  \n  \n--- Natürlich wird auch wie immer genügend Zeit für persönliche Gespräche sein. ---
URL:https://www.als-mobil.de/veranstaltung/als-stammtisch-in-berlin-mai-25/
LOCATION:Berliner Stadtmission\, Lehrter Straße 68\, Berlin\, 10557
CATEGORIES:Information & Beratung
ATTACH;FMTTYPE=image/jpeg:https://www.als-mobil.de/wp-content/uploads/berlin3.jpg
END:VEVENT
BEGIN:VEVENT
DTSTART;TZID=Europe/Berlin:20250501T193000
DTEND;TZID=Europe/Berlin:20250501T210000
DTSTAMP:20260421T104443
CREATED:20250124T010543Z
LAST-MODIFIED:20250416T183540Z
UID:9153-1746127800-1746133200@www.als-mobil.de
SUMMARY:virtueller [Mai] Stammtisch von niemALS aufgeben e.V. & Chance zum Leben-ALS e.V. & ALS-mobil e.V.
DESCRIPTION:  \nhttps://us02web.zoom.us/join \n\n Meeting-ID: 810 4063 6043Kenncode: 424529\n\n\n\n\n\n\n\nHallo und ein herzliches Willkommen zu unserem virtuellen Stammtisch.\nIhr seid alle eingeladen. \n\n\nDieser Stammtisch wird einmal im Monat\, immer am 1. Donnerstag\, abends um 19:30 Uhr stattfinden.\nJede interessierte Person\, die Zeit und Lust hat\, ist eingeladen dem Zoom-Meeting beizuwohnen.\nEs ist keine Pflichtveranstaltung und es gibt keine vorgegebenen Themen\, die besprochen werden.\n\n\nDieses Meeting ist einzig darauf ausgelegt\, einfach nur einen netten Abend in netter Runde zu verbringen\, neue Leute kennenzulernen\, alte Bekannte/Freunde wieder zu sehen und ins Gespräch über alle möglichen Themen zu kommen – halt einfach miteinander in Kontakt bleiben.\n\n\nDieses Meeting wird nicht nur für die Vereine intern stattfinden.\nWie oben bereits erwähnt Ihr ALLE seid hiermit herzlich eingeladen!!!\n\n\nJeder interessierten Person soll zumindest virtuell ein direkter Kontakt zu uns ermöglicht werden\, bei welchem wir uns alle endlich auch mal direkt sehen und hören können. \n\nAlso\, einfach auf den Link (er wird für jeden Stammtisch derselbe sein) klicken\, kostenfrei zu Zoom  und dem Meeting beitreten.\n\nWir freuen uns auf euch \n\n\n\n\n\n\n  \n\n\n\n\nhttps://us02web.zoom.us/join \n\n Meeting-ID: 810 4063 6043Kenncode: 424529
URL:https://www.als-mobil.de/veranstaltung/virtueller-stammtisch-von-niemals-aufgeben-e-v-chance-zum-leben-als-e-v-als-mobil-e-v-05-25/
LOCATION:Zoom – online
CATEGORIES:Information & Beratung
ATTACH;FMTTYPE=image/jpeg:https://www.als-mobil.de/wp-content/uploads/FB_IMG_1744828425341.jpg
END:VEVENT
END:VCALENDAR